Package: RCy3 Version: 2.28.1 Command: E:\biocbuild\bbs-3.21-bioc\R\bin\R.exe CMD INSTALL RCy3 StartedAt: 2025-08-14 15:37:41 -0400 (Thu, 14 Aug 2025) EndedAt: 2025-08-14 15:40:35 -0400 (Thu, 14 Aug 2025) EllapsedTime: 173.9 seconds RetCode: 0 Status: OK