Package: RCy3 Version: 2.28.1 Command: /home/biocbuild/bbs-3.21-bioc/R/bin/R CMD INSTALL RCy3 StartedAt: 2025-10-01 15:14:54 -0400 (Wed, 01 Oct 2025) EndedAt: 2025-10-01 15:15:07 -0400 (Wed, 01 Oct 2025) EllapsedTime: 12.4 seconds RetCode: 0 Status: OK