Package: RCy3 Version: 2.28.1 Command: /home/biocbuild/bbs-3.21-bioc/R/bin/R CMD check --install=check:RCy3.install-out.txt --library=/home/biocbuild/bbs-3.21-bioc/R/site-library --timings RCy3_2.28.1.tar.gz StartedAt: 2025-10-02 02:36:34 -0400 (Thu, 02 Oct 2025) EndedAt: 2025-10-02 02:38:12 -0400 (Thu, 02 Oct 2025) EllapsedTime: 97.2 seconds RetCode: 0 Status: OK CheckDir: RCy3.Rcheck Warnings: 0