Package: RCy3 Version: 2.28.1 Command: /Library/Frameworks/R.framework/Resources/bin/R CMD build --keep-empty-dirs --no-resave-data RCy3 StartedAt: 2025-10-13 21:54:27 -0400 (Mon, 13 Oct 2025) EndedAt: 2025-10-13 21:55:57 -0400 (Mon, 13 Oct 2025) EllapsedTime: 89.9 seconds RetCode: 0 Status: OK PackageFile: RCy3_2.28.1.tar.gz PackageFileSize: 6.457 MiB