############################################################################## ############################################################################## ### ### Running command: ### ### /home/biocbuild/bbs-3.21-bioc/R/bin/R CMD check --install=check:RCSL.install-out.txt --library=/home/biocbuild/bbs-3.21-bioc/R/site-library --timings RCSL_1.16.0.tar.gz ### ############################################################################## ############################################################################## * using log directory ‘/home/biocbuild/bbs-3.21-bioc/meat/RCSL.Rcheck’ * using R version 4.5.1 (2025-06-13) * using platform: x86_64-pc-linux-gnu * R was compiled by gcc (Ubuntu 13.3.0-6ubuntu2~24.04) 13.3.0 GNU Fortran (Ubuntu 13.3.0-6ubuntu2~24.04) 13.3.0 * running under: Ubuntu 24.04.3 LTS * using session charset: UTF-8 * checking for file ‘RCSL/DESCRIPTION’ ... OK * checking extension type ... Package * this is package ‘RCSL’ version ‘1.16.0’ * package encoding: UTF-8 * checking package namespace information ... OK * checking package dependencies ... OK * checking if this is a source package ... OK * checking if there is a namespace ... OK * checking for hidden files and directories ... OK * checking for portable file names ... OK * checking for sufficient/correct file permissions ... OK * checking whether package ‘RCSL’ can be installed ... OK * checking installed package size ... OK * checking package directory ... OK * checking ‘build’ directory ... OK * checking DESCRIPTION meta-information ... OK * checking top-level files ... OK * checking for left-over files ... OK * checking index information ... OK * checking package subdirectories ... OK * checking code files for non-ASCII characters ... OK * checking R files for syntax errors ... OK * checking whether the package can be loaded ... OK * checking whether the package can be loaded with stated dependencies ... OK * checking whether the package can be unloaded cleanly ... OK * checking whether the namespace can be loaded with stated dependencies ... OK * checking whether the namespace can be unloaded cleanly ... OK * checking loading without being on the library search path ... OK * checking dependencies in R code ... NOTE Namespaces in Imports field not imported from: ‘MatrixGenerics’ ‘Rcpp’ ‘SingleCellExperiment’ All declared Imports should be used. * checking S3 generic/method consistency ... OK * checking replacement functions ... OK * checking foreign function calls ... OK * checking R code for possible problems ... NOTE PlotMST: no visible binding for global variable ‘X1’ PlotMST: no visible binding for global variable ‘X2’ PlotMST: no visible binding for global variable ‘label’ PlotMST: no visible binding for global variable ‘from.x’ PlotMST: no visible binding for global variable ‘to.x’ PlotMST: no visible binding for global variable ‘from.y’ PlotMST: no visible binding for global variable ‘to.y’ PlotMST: no visible binding for global variable ‘V1’ PlotMST: no visible binding for global variable ‘V2’ PlotPseudoTime: no visible binding for global variable ‘x’ PlotPseudoTime: no visible binding for global variable ‘y’ PlotPseudoTime: no visible binding for global variable ‘Timepoint’ PlotTrajectory: no visible binding for global variable ‘X1’ PlotTrajectory: no visible binding for global variable ‘X2’ PlotTrajectory: no visible binding for global variable ‘label’ PlotTrajectory: no visible binding for global variable ‘x’ PlotTrajectory: no visible binding for global variable ‘y’ Undefined global functions or variables: Timepoint V1 V2 X1 X2 from.x from.y label to.x to.y x y * checking Rd files ... NOTE checkRd: (-1) BDSM.Rd:6: Lost braces; missing escapes or markup? 6 | min_{B>=0, B*1=1, F'*F=I} ||B - A||_1 + r*||B||^2 + 2*lambda*trace(F'*L*F)} | ^ checkRd: (-1) BDSM.Rd:22: Lost braces; missing escapes or markup? 22 | min_{B>=0, B*1=1, F'*F=I} ||B - A||_1 + r*||B||^2 + 2*lambda*trace(F'*L*F) | ^ * checking Rd metadata ... OK * checking Rd cross-references ... OK * checking for missing documentation entries ... OK * checking for code/documentation mismatches ... OK * checking Rd \usage sections ... OK * checking Rd contents ... OK * checking for unstated dependencies in examples ... OK * checking contents of ‘data’ directory ... OK * checking data for non-ASCII characters ... OK * checking LazyData ... OK * checking data for ASCII and uncompressed saves ... OK * checking files in ‘vignettes’ ... OK * checking examples ... OK Examples with CPU (user + system) or elapsed time > 5s user system elapsed PlotMST 37.168 0.149 37.318 TrajectoryAnalysis 36.291 0.011 36.305 PlotTrajectory 36.218 0.073 36.297 BDSM 35.644 0.378 36.023 PlotPseudoTime 34.932 0.049 34.987 NeigRepresent 34.593 0.176 34.770 EstClusters 34.606 0.093 34.702 getLineage 34.592 0.035 34.628 GenesFilter 33.481 0.827 34.309 SimS 33.642 0.163 33.806 RCSL 8.459 0.770 9.229 * checking for unstated dependencies in vignettes ... OK * checking package vignettes ... OK * checking re-building of vignette outputs ... OK * checking PDF version of manual ... OK * DONE Status: 3 NOTEs See ‘/home/biocbuild/bbs-3.21-bioc/meat/RCSL.Rcheck/00check.log’ for details.