Package: RBioinf Version: 1.68.0 Command: rm -rf RBioinf.buildbin-libdir && mkdir RBioinf.buildbin-libdir && E:\biocbuild\bbs-3.21-bioc\R\bin\R.exe CMD INSTALL --build --library=RBioinf.buildbin-libdir RBioinf_1.68.0.tar.gz StartedAt: 2025-08-15 10:02:51 -0400 (Fri, 15 Aug 2025) EndedAt: 2025-08-15 10:03:10 -0400 (Fri, 15 Aug 2025) EllapsedTime: 19.2 seconds RetCode: 0 Status: OK PackageFile: RBioinf_1.68.0.zip PackageFileSize: 3.47 MiB