Package: RBioinf Version: 1.68.0 Command: /home/biocbuild/bbs-3.21-bioc/R/bin/R CMD check --install=check:RBioinf.install-out.txt --library=/home/biocbuild/bbs-3.21-bioc/R/site-library --timings RBioinf_1.68.0.tar.gz StartedAt: 2025-10-16 02:39:56 -0400 (Thu, 16 Oct 2025) EndedAt: 2025-10-16 02:40:20 -0400 (Thu, 16 Oct 2025) EllapsedTime: 24.1 seconds RetCode: 0 Status: OK CheckDir: RBioinf.Rcheck Warnings: 0