Package: RBioinf Version: 1.68.0 Command: /home/biocbuild/R/R/bin/R CMD INSTALL RBioinf StartedAt: 2025-10-13 20:24:11 -0000 (Mon, 13 Oct 2025) EndedAt: 2025-10-13 20:24:16 -0000 (Mon, 13 Oct 2025) EllapsedTime: 5.2 seconds RetCode: 0 Status: OK