Package: RBioinf Version: 1.68.0 Command: /Library/Frameworks/R.framework/Resources/bin/R CMD check --install=check:RBioinf.install-out.txt --library=/Library/Frameworks/R.framework/Resources/library --no-vignettes --timings RBioinf_1.68.0.tar.gz StartedAt: 2025-04-21 21:07:46 -0400 (Mon, 21 Apr 2025) EndedAt: 2025-04-21 21:07:59 -0400 (Mon, 21 Apr 2025) EllapsedTime: 13.1 seconds RetCode: 0 Status: OK CheckDir: RBioinf.Rcheck Warnings: 0