Package: RBioinf Version: 1.68.0 Command: /Library/Frameworks/R.framework/Resources/bin/R CMD check --install=check:RBioinf.install-out.txt --library=/Library/Frameworks/R.framework/Resources/library --no-vignettes --timings RBioinf_1.68.0.tar.gz StartedAt: 2025-10-15 08:58:14 -0400 (Wed, 15 Oct 2025) EndedAt: 2025-10-15 08:58:44 -0400 (Wed, 15 Oct 2025) EllapsedTime: 29.7 seconds RetCode: 0 Status: OK CheckDir: RBioinf.Rcheck Warnings: 0