Package: RBioinf Version: 1.68.0 Maintainer: Robert Gentleman MaintainerEmail: rgentlem at gmail.com git_url: https://git.bioconductor.org/packages/RBioinf git_branch: RELEASE_3_21 git_last_commit: 4812408 git_last_commit_date: 2025-04-15 09:41:49 -0400 (Tue, 15 Apr 2025)