Package: RBM Version: 1.40.0 Command: /Library/Frameworks/R.framework/Resources/bin/R CMD build --keep-empty-dirs --no-resave-data RBM StartedAt: 2025-04-21 18:05:29 -0400 (Mon, 21 Apr 2025) EndedAt: 2025-04-21 18:06:10 -0400 (Mon, 21 Apr 2025) EllapsedTime: 41.1 seconds RetCode: 0 Status: OK PackageFile: RBM_1.40.0.tar.gz PackageFileSize: 373.7 KiB