Package: RBGL Version: 1.84.0 Command: E:\biocbuild\bbs-3.21-bioc\R\bin\R.exe CMD INSTALL RBGL StartedAt: 2025-08-14 15:37:40 -0400 (Thu, 14 Aug 2025) EndedAt: 2025-08-14 15:40:31 -0400 (Thu, 14 Aug 2025) EllapsedTime: 170.6 seconds RetCode: 0 Status: OK