Package: RBGL Version: 1.84.0 Command: chmod a+r RBGL -R && E:\biocbuild\bbs-3.21-bioc\R\bin\R.exe CMD build --keep-empty-dirs --no-resave-data RBGL StartedAt: 2025-08-14 21:35:55 -0400 (Thu, 14 Aug 2025) EndedAt: 2025-08-14 21:40:32 -0400 (Thu, 14 Aug 2025) EllapsedTime: 277.7 seconds RetCode: 0 Status: OK PackageFile: RBGL_1.84.0.tar.gz PackageFileSize: 2.425 MiB