Package: RAIDS Version: 1.6.1 Command: /home/biocbuild/R/R/bin/R CMD INSTALL RAIDS StartedAt: 2025-10-13 20:56:19 -0000 (Mon, 13 Oct 2025) EndedAt: 2025-10-13 20:57:37 -0000 (Mon, 13 Oct 2025) EllapsedTime: 77.8 seconds RetCode: 0 Status: OK