Package: RAIDS Version: 1.6.1 Command: /Library/Frameworks/R.framework/Resources/bin/R CMD check --install=check:RAIDS.install-out.txt --library=/Library/Frameworks/R.framework/Resources/library --no-vignettes --timings RAIDS_1.6.1.tar.gz StartedAt: 2025-04-21 21:06:19 -0400 (Mon, 21 Apr 2025) EndedAt: 2025-04-21 21:08:59 -0400 (Mon, 21 Apr 2025) EllapsedTime: 160.2 seconds RetCode: 0 Status: OK CheckDir: RAIDS.Rcheck Warnings: 0