Package: RAIDS Version: 1.6.1 Command: /Library/Frameworks/R.framework/Resources/bin/R CMD build --keep-empty-dirs --no-resave-data RAIDS StartedAt: 2025-10-14 07:18:03 -0400 (Tue, 14 Oct 2025) EndedAt: 2025-10-14 07:20:37 -0400 (Tue, 14 Oct 2025) EllapsedTime: 154.8 seconds RetCode: 0 Status: OK PackageFile: RAIDS_1.6.1.tar.gz PackageFileSize: 3.412 MiB