Package: R4RNA Version: 1.36.0 Command: rm -rf R4RNA.buildbin-libdir && mkdir R4RNA.buildbin-libdir && E:\biocbuild\bbs-3.21-bioc\R\bin\R.exe CMD INSTALL --build --library=R4RNA.buildbin-libdir R4RNA_1.36.0.tar.gz StartedAt: 2025-08-15 10:01:47 -0400 (Fri, 15 Aug 2025) EndedAt: 2025-08-15 10:02:21 -0400 (Fri, 15 Aug 2025) EllapsedTime: 33.4 seconds RetCode: 0 Status: OK PackageFile: R4RNA_1.36.0.zip PackageFileSize: 932.4 KiB