Package: QuasR Version: 1.48.1 Command: /Library/Frameworks/R.framework/Resources/bin/R CMD check --install=check:QuasR.install-out.txt --library=/Library/Frameworks/R.framework/Resources/library --no-vignettes --timings QuasR_1.48.1.tar.gz StartedAt: 2025-10-15 08:44:35 -0400 (Wed, 15 Oct 2025) EndedAt: 2025-10-15 08:56:12 -0400 (Wed, 15 Oct 2025) EllapsedTime: 697.2 seconds RetCode: 0 Status: WARNINGS CheckDir: QuasR.Rcheck Warnings: 1