Package: QuartPAC Version: 1.40.0 Command: /Library/Frameworks/R.framework/Resources/bin/R CMD check --install=check:QuartPAC.install-out.txt --library=/Library/Frameworks/R.framework/Resources/library --no-vignettes --timings QuartPAC_1.40.0.tar.gz StartedAt: 2025-10-15 08:44:34 -0400 (Wed, 15 Oct 2025) EndedAt: 2025-10-15 08:47:52 -0400 (Wed, 15 Oct 2025) EllapsedTime: 198.4 seconds RetCode: 1 Status: ERROR CheckDir: QuartPAC.Rcheck Warnings: NA