Package: QUBIC Version: 1.36.0 Command: /Library/Frameworks/R.framework/Resources/bin/R CMD INSTALL QUBIC StartedAt: 2025-04-21 15:10:53 -0400 (Mon, 21 Apr 2025) EndedAt: 2025-04-21 15:11:28 -0400 (Mon, 21 Apr 2025) EllapsedTime: 34.6 seconds RetCode: 0 Status: OK