Package: QUBIC Version: 1.36.0 Command: /home/biocbuild/R/R/bin/R CMD build --keep-empty-dirs --no-resave-data QUBIC StartedAt: 2025-10-14 03:47:14 -0000 (Tue, 14 Oct 2025) EndedAt: 2025-10-14 03:49:30 -0000 (Tue, 14 Oct 2025) EllapsedTime: 136.0 seconds RetCode: 0 Status: OK PackageFile: QUBIC_1.36.0.tar.gz PackageFileSize: 488.1 KiB