Package: QTLExperiment Version: 2.0.1 Command: /Library/Frameworks/R.framework/Resources/bin/R CMD check --install=check:QTLExperiment.install-out.txt --library=/Library/Frameworks/R.framework/Resources/library --no-vignettes --timings QTLExperiment_2.0.1.tar.gz StartedAt: 2025-10-14 08:42:02 -0400 (Tue, 14 Oct 2025) EndedAt: 2025-10-14 08:48:53 -0400 (Tue, 14 Oct 2025) EllapsedTime: 411.3 seconds RetCode: 0 Status: OK CheckDir: QTLExperiment.Rcheck Warnings: 0