Package: QTLExperiment Version: 2.0.0 Command: /Library/Frameworks/R.framework/Resources/bin/R CMD check --install=check:QTLExperiment.install-out.txt --library=/Library/Frameworks/R.framework/Resources/library --no-vignettes --timings QTLExperiment_2.0.0.tar.gz StartedAt: 2025-04-21 22:50:29 -0400 (Mon, 21 Apr 2025) EndedAt: 2025-04-21 22:54:00 -0400 (Mon, 21 Apr 2025) EllapsedTime: 211.1 seconds RetCode: 0 Status: OK CheckDir: QTLExperiment.Rcheck Warnings: 0