Package: QTLExperiment Version: 2.0.1 Command: /home/biocbuild/R/R/bin/R CMD check --install=check:QTLExperiment.install-out.txt --library=/home/biocbuild/R/R/site-library --no-vignettes --timings QTLExperiment_2.0.1.tar.gz StartedAt: 2025-10-14 12:55:21 -0000 (Tue, 14 Oct 2025) EndedAt: 2025-10-14 12:59:34 -0000 (Tue, 14 Oct 2025) EllapsedTime: 253.3 seconds RetCode: 0 Status: OK CheckDir: QTLExperiment.Rcheck Warnings: 0