Package: QTLExperiment Version: 2.0.1 Command: /home/biocbuild/R/R/bin/R CMD build --keep-empty-dirs --no-resave-data QTLExperiment StartedAt: 2025-10-14 03:46:18 -0000 (Tue, 14 Oct 2025) EndedAt: 2025-10-14 03:47:14 -0000 (Tue, 14 Oct 2025) EllapsedTime: 56.0 seconds RetCode: 0 Status: OK PackageFile: QTLExperiment_2.0.1.tar.gz PackageFileSize: 680.3 KiB