Package: QSutils Version: 1.26.0 Command: chmod a+r QSutils -R && E:\biocbuild\bbs-3.21-bioc\R\bin\R.exe CMD build --keep-empty-dirs --no-resave-data QSutils StartedAt: 2025-08-14 21:30:10 -0400 (Thu, 14 Aug 2025) EndedAt: 2025-08-14 21:32:20 -0400 (Thu, 14 Aug 2025) EllapsedTime: 129.9 seconds RetCode: 0 Status: OK PackageFile: QSutils_1.26.0.tar.gz PackageFileSize: 1.101 MiB