Package: QSutils Version: 1.26.0 Command: rm -rf QSutils.buildbin-libdir && mkdir QSutils.buildbin-libdir && E:\biocbuild\bbs-3.21-bioc\R\bin\R.exe CMD INSTALL --build --library=QSutils.buildbin-libdir QSutils_1.26.0.tar.gz StartedAt: 2025-08-15 10:01:04 -0400 (Fri, 15 Aug 2025) EndedAt: 2025-08-15 10:01:33 -0400 (Fri, 15 Aug 2025) EllapsedTime: 29.7 seconds RetCode: 0 Status: OK PackageFile: QSutils_1.26.0.zip PackageFileSize: 1.221 MiB