Package: QSutils Version: 1.26.0 Command: /home/biocbuild/bbs-3.21-bioc/R/bin/R CMD check --install=check:QSutils.install-out.txt --library=/home/biocbuild/bbs-3.21-bioc/R/site-library --timings QSutils_1.26.0.tar.gz StartedAt: 2025-10-16 02:31:40 -0400 (Thu, 16 Oct 2025) EndedAt: 2025-10-16 02:33:42 -0400 (Thu, 16 Oct 2025) EllapsedTime: 122.1 seconds RetCode: 0 Status: OK CheckDir: QSutils.Rcheck Warnings: 0