Package: QSutils Version: 1.26.0 Command: /Library/Frameworks/R.framework/Resources/bin/R CMD build --keep-empty-dirs --no-resave-data QSutils StartedAt: 2025-10-13 21:46:38 -0400 (Mon, 13 Oct 2025) EndedAt: 2025-10-13 21:49:49 -0400 (Mon, 13 Oct 2025) EllapsedTime: 191.8 seconds RetCode: 0 Status: OK PackageFile: QSutils_1.26.0.tar.gz PackageFileSize: 1.321 MiB