Package: QFeatures Version: 1.18.0 Command: /Library/Frameworks/R.framework/Resources/bin/R CMD INSTALL QFeatures StartedAt: 2025-10-13 16:03:03 -0400 (Mon, 13 Oct 2025) EndedAt: 2025-10-13 16:04:08 -0400 (Mon, 13 Oct 2025) EllapsedTime: 65.0 seconds RetCode: 0 Status: OK