Package: QFeatures Version: 1.18.0 Command: /Library/Frameworks/R.framework/Resources/bin/R CMD build --keep-empty-dirs --no-resave-data QFeatures StartedAt: 2025-10-13 21:45:35 -0400 (Mon, 13 Oct 2025) EndedAt: 2025-10-13 21:48:52 -0400 (Mon, 13 Oct 2025) EllapsedTime: 196.5 seconds RetCode: 0 Status: OK PackageFile: QFeatures_1.18.0.tar.gz PackageFileSize: 4.975 MiB