Package: QFeatures Version: 1.18.0 Command: /Library/Frameworks/R.framework/Resources/bin/R CMD INSTALL QFeatures StartedAt: 2025-09-29 17:07:11 -0400 (Mon, 29 Sep 2025) EndedAt: 2025-09-29 17:07:46 -0400 (Mon, 29 Sep 2025) EllapsedTime: 35.3 seconds RetCode: 0 Status: OK