Package: QFeatures Version: 1.18.0 Command: /Library/Frameworks/R.framework/Resources/bin/R CMD check --install=check:QFeatures.install-out.txt --library=/Library/Frameworks/R.framework/Resources/library --no-vignettes --timings QFeatures_1.18.0.tar.gz StartedAt: 2025-10-01 08:31:06 -0400 (Wed, 01 Oct 2025) EndedAt: 2025-10-01 08:42:38 -0400 (Wed, 01 Oct 2025) EllapsedTime: 691.9 seconds RetCode: 0 Status: OK CheckDir: QFeatures.Rcheck Warnings: 0