Package: QFeatures Version: 1.18.0 Command: /Library/Frameworks/R.framework/Resources/bin/R CMD build --keep-empty-dirs --no-resave-data QFeatures StartedAt: 2025-09-30 07:02:27 -0400 (Tue, 30 Sep 2025) EndedAt: 2025-09-30 07:04:18 -0400 (Tue, 30 Sep 2025) EllapsedTime: 111.2 seconds RetCode: 0 Status: OK PackageFile: QFeatures_1.18.0.tar.gz PackageFileSize: 4.977 MiB