Package: QFeatures Version: 1.18.0 Command: rm -rf QFeatures.buildbin-libdir && mkdir QFeatures.buildbin-libdir && /Users/biocbuild/BBS/utils/build-universal.sh QFeatures_1.18.0.tar.gz /Library/Frameworks/R.framework/Resources/bin/R QFeatures.buildbin-libdir StartedAt: 2025-10-01 19:53:57 -0400 (Wed, 01 Oct 2025) EndedAt: 2025-10-01 19:54:38 -0400 (Wed, 01 Oct 2025) EllapsedTime: 40.8 seconds RetCode: 0 Status: OK PackageFile: QFeatures_1.18.0.tgz PackageFileSize: 4.908 MiB