Package: QDNAseq Version: 1.44.0 Command: rm -rf QDNAseq.buildbin-libdir && mkdir QDNAseq.buildbin-libdir && E:\biocbuild\bbs-3.21-bioc\R\bin\R.exe CMD INSTALL --build --library=QDNAseq.buildbin-libdir QDNAseq_1.44.0.tar.gz StartedAt: 2025-08-15 10:00:23 -0400 (Fri, 15 Aug 2025) EndedAt: 2025-08-15 10:01:29 -0400 (Fri, 15 Aug 2025) EllapsedTime: 65.7 seconds RetCode: 0 Status: OK PackageFile: QDNAseq_1.44.0.zip PackageFileSize: 1.394 MiB