Package: QDNAseq Version: 1.44.0 Command: /home/biocbuild/bbs-3.21-bioc/R/bin/R CMD check --install=check:QDNAseq.install-out.txt --library=/home/biocbuild/bbs-3.21-bioc/R/site-library --timings QDNAseq_1.44.0.tar.gz StartedAt: 2025-10-16 02:30:11 -0400 (Thu, 16 Oct 2025) EndedAt: 2025-10-16 02:37:29 -0400 (Thu, 16 Oct 2025) EllapsedTime: 437.7 seconds RetCode: 0 Status: OK CheckDir: QDNAseq.Rcheck Warnings: 0