Package: PureCN Version: 2.14.1 Command: /Library/Frameworks/R.framework/Resources/bin/R CMD INSTALL PureCN StartedAt: 2025-10-13 16:18:28 -0400 (Mon, 13 Oct 2025) EndedAt: 2025-10-13 16:20:16 -0400 (Mon, 13 Oct 2025) EllapsedTime: 107.8 seconds RetCode: 0 Status: OK