Package: PureCN Version: 2.14.1 Command: /Library/Frameworks/R.framework/Resources/bin/R CMD check --install=check:PureCN.install-out.txt --library=/Library/Frameworks/R.framework/Resources/library --no-vignettes --timings PureCN_2.14.1.tar.gz StartedAt: 2025-10-14 08:35:49 -0400 (Tue, 14 Oct 2025) EndedAt: 2025-10-14 09:11:57 -0400 (Tue, 14 Oct 2025) EllapsedTime: 2167.1 seconds RetCode: 0 Status: OK CheckDir: PureCN.Rcheck Warnings: 0