Package: PureCN Version: 2.14.0 Command: /Library/Frameworks/R.framework/Resources/bin/R CMD INSTALL PureCN StartedAt: 2025-04-21 15:36:24 -0400 (Mon, 21 Apr 2025) EndedAt: 2025-04-21 15:37:34 -0400 (Mon, 21 Apr 2025) EllapsedTime: 69.6 seconds RetCode: 0 Status: OK