Package: PureCN Version: 2.14.0 Command: /Library/Frameworks/R.framework/Resources/bin/R CMD build --keep-empty-dirs --no-resave-data PureCN StartedAt: 2025-04-21 18:01:57 -0400 (Mon, 21 Apr 2025) EndedAt: 2025-04-21 18:06:57 -0400 (Mon, 21 Apr 2025) EllapsedTime: 300.5 seconds RetCode: 0 Status: OK PackageFile: PureCN_2.14.0.tar.gz PackageFileSize: 5.723 MiB