Package: PureCN Version: 2.14.1 Command: rm -rf PureCN.buildbin-libdir && mkdir PureCN.buildbin-libdir && /Users/biocbuild/BBS/utils/build-universal.sh PureCN_2.14.1.tar.gz /Library/Frameworks/R.framework/Resources/bin/R PureCN.buildbin-libdir StartedAt: 2025-10-15 19:53:50 -0400 (Wed, 15 Oct 2025) EndedAt: 2025-10-15 19:54:56 -0400 (Wed, 15 Oct 2025) EllapsedTime: 66.8 seconds RetCode: 0 Status: OK PackageFile: PureCN_2.14.1.tgz PackageFileSize: 6.184 MiB