Package: ProteoMM Version: 1.26.0 Command: /home/biocbuild/bbs-3.21-bioc/R/bin/R CMD check --install=check:ProteoMM.install-out.txt --library=/home/biocbuild/bbs-3.21-bioc/R/site-library --timings ProteoMM_1.26.0.tar.gz StartedAt: 2025-10-16 02:27:19 -0400 (Thu, 16 Oct 2025) EndedAt: 2025-10-16 02:29:08 -0400 (Thu, 16 Oct 2025) EllapsedTime: 109.1 seconds RetCode: 0 Status: OK CheckDir: ProteoMM.Rcheck Warnings: 0