Package: ProteoMM Version: 1.26.0 Command: /Library/Frameworks/R.framework/Resources/bin/R CMD check --install=check:ProteoMM.install-out.txt --library=/Library/Frameworks/R.framework/Resources/library --no-vignettes --timings ProteoMM_1.26.0.tar.gz StartedAt: 2025-10-14 08:33:07 -0400 (Tue, 14 Oct 2025) EndedAt: 2025-10-14 08:38:21 -0400 (Tue, 14 Oct 2025) EllapsedTime: 314.7 seconds RetCode: 0 Status: OK CheckDir: ProteoMM.Rcheck Warnings: 0