Package: ProteoMM Version: 1.26.0 Command: rm -rf ProteoMM.buildbin-libdir && mkdir ProteoMM.buildbin-libdir && /Users/biocbuild/BBS/utils/build-universal.sh ProteoMM_1.26.0.tar.gz /Library/Frameworks/R.framework/Resources/bin/R ProteoMM.buildbin-libdir StartedAt: 2025-10-15 19:53:08 -0400 (Wed, 15 Oct 2025) EndedAt: 2025-10-15 19:53:17 -0400 (Wed, 15 Oct 2025) EllapsedTime: 9.1 seconds RetCode: 0 Status: OK PackageFile: ProteoMM_1.26.0.tgz PackageFileSize: 626.3 KiB