Package: ProteoDisco Version: 1.14.0 Command: rm -rf ProteoDisco.buildbin-libdir && mkdir ProteoDisco.buildbin-libdir && E:\biocbuild\bbs-3.21-bioc\R\bin\R.exe CMD INSTALL --build --library=ProteoDisco.buildbin-libdir ProteoDisco_1.14.0.tar.gz StartedAt: 2025-08-15 09:59:40 -0400 (Fri, 15 Aug 2025) EndedAt: 2025-08-15 10:01:06 -0400 (Fri, 15 Aug 2025) EllapsedTime: 85.2 seconds RetCode: 0 Status: OK PackageFile: ProteoDisco_1.14.0.zip PackageFileSize: 885.5 KiB