Package: ProteoDisco Version: 1.14.0 Command: /Library/Frameworks/R.framework/Resources/bin/R CMD check --install=check:ProteoDisco.install-out.txt --library=/Library/Frameworks/R.framework/Resources/library --no-vignettes --timings ProteoDisco_1.14.0.tar.gz StartedAt: 2025-10-14 08:33:05 -0400 (Tue, 14 Oct 2025) EndedAt: 2025-10-14 08:48:38 -0400 (Tue, 14 Oct 2025) EllapsedTime: 933.3 seconds RetCode: 0 Status: WARNINGS CheckDir: ProteoDisco.Rcheck Warnings: 2