Package: ProtGenerics Version: 1.40.0 Command: E:\biocbuild\bbs-3.21-bioc\R\bin\R.exe CMD check --no-multiarch --install=check:ProtGenerics.install-out.txt --library=E:\biocbuild\bbs-3.21-bioc\R\library --no-vignettes --timings ProtGenerics_1.40.0.tar.gz StartedAt: 2025-08-15 05:39:35 -0400 (Fri, 15 Aug 2025) EndedAt: 2025-08-15 05:40:04 -0400 (Fri, 15 Aug 2025) EllapsedTime: 29.0 seconds RetCode: 0 Status: OK CheckDir: ProtGenerics.Rcheck Warnings: 0