Package: ProtGenerics Version: 1.40.0 Command: /home/biocbuild/bbs-3.21-bioc/R/bin/R CMD INSTALL ProtGenerics StartedAt: 2025-10-15 15:02:14 -0400 (Wed, 15 Oct 2025) EndedAt: 2025-10-15 15:02:28 -0400 (Wed, 15 Oct 2025) EllapsedTime: 13.9 seconds RetCode: 0 Status: OK